BEGIN:VCALENDAR
VERSION:2.0
PRODID:-//New Port Richey Main Street - ECPv6.15.20//NONSGML v1.0//EN
CALSCALE:GREGORIAN
METHOD:PUBLISH
X-WR-CALNAME:New Port Richey Main Street
X-ORIGINAL-URL:https://nprmainstreet.com
X-WR-CALDESC:Events for New Port Richey Main Street
REFRESH-INTERVAL;VALUE=DURATION:PT1H
X-Robots-Tag:noindex
X-PUBLISHED-TTL:PT1H
BEGIN:VTIMEZONE
TZID:America/New_York
BEGIN:DAYLIGHT
TZOFFSETFROM:-0500
TZOFFSETTO:-0400
TZNAME:EDT
DTSTART:20250309T070000
END:DAYLIGHT
BEGIN:STANDARD
TZOFFSETFROM:-0400
TZOFFSETTO:-0500
TZNAME:EST
DTSTART:20251102T060000
END:STANDARD
BEGIN:DAYLIGHT
TZOFFSETFROM:-0500
TZOFFSETTO:-0400
TZNAME:EDT
DTSTART:20260308T070000
END:DAYLIGHT
BEGIN:STANDARD
TZOFFSETFROM:-0400
TZOFFSETTO:-0500
TZNAME:EST
DTSTART:20261101T060000
END:STANDARD
BEGIN:DAYLIGHT
TZOFFSETFROM:-0500
TZOFFSETTO:-0400
TZNAME:EDT
DTSTART:20270314T070000
END:DAYLIGHT
BEGIN:STANDARD
TZOFFSETFROM:-0400
TZOFFSETTO:-0500
TZNAME:EST
DTSTART:20271107T060000
END:STANDARD
END:VTIMEZONE
BEGIN:VEVENT
DTSTART;TZID=America/New_York:20260424T180000
DTEND;TZID=America/New_York:20260424T220000
DTSTAMP:20260421T075920
CREATED:20260415T014646Z
LAST-MODIFIED:20260415T014646Z
UID:10000287-1777053600-1777068000@nprmainstreet.com
SUMMARY:NPR Fourth Friday - Derby
DESCRIPTION:Join us for a monthly\, evening outdoor market that fills Downtown New Port Richey with creativity\, community\, and good vibes!\nEach Fourth Friday features a rotating lineup of talented artisans\, makers\, and small businesses offering handmade goods\, art\, jewelry\, woodwork\, gifts\, and unique finds you won’t see anywhere else. \n🏇 This month’s theme: Derby!\nDust off your best Derby hat\, dress to impress\, and enjoy a night of Southern charm\, festive flair\, and community fun. Sip\, shop\, and stroll through downtown with themed treats\, stylish looks\, and exciting activities throughout the night! \n💛 Charity of the Month: Alliance for Healthy Communities\nStop by to learn more about how they support health and wellness initiatives throughout our community and how you can get involved. \n📍 Explore vendors along Grand Blvd\, Nebraska Ave\, and Main St.\n🕕 6PM – 10PM | Friday\, April 24th \nInterested vendors can apply at https://nprfourthfriday.com
URL:https://nprmainstreet.com/event/npr-fourth-friday-derby/
LOCATION:Downtown New Port Richey\, Main Street\, New Port Richey\, FL\, 34652\, United States
CATEGORIES:Community,Entertainment,Free Event,Public Events,Shopping
ATTACH;FMTTYPE=image/jpeg:https://nprmainstreet.com/wp-content/uploads/2026/04/April-2026.jpg
END:VEVENT
END:VCALENDAR